BEGIN:VCALENDAR
VERSION:2.0
PRODID:-//Australian Food and Grocery Council - ECPv5.0.2//NONSGML v1.0//EN
CALSCALE:GREGORIAN
METHOD:PUBLISH
X-WR-CALNAME:Australian Food and Grocery Council
X-ORIGINAL-URL:https://www.afgc.org.au
X-WR-CALDESC:Events for Australian Food and Grocery Council
BEGIN:VTIMEZONE
TZID:Australia/Sydney
BEGIN:STANDARD
TZOFFSETFROM:+1100
TZOFFSETTO:+1000
TZNAME:AEST
DTSTART:20200404T160000
END:STANDARD
BEGIN:DAYLIGHT
TZOFFSETFROM:+1000
TZOFFSETTO:+1100
TZNAME:AEDT
DTSTART:20201003T160000
END:DAYLIGHT
END:VTIMEZONE
BEGIN:VEVENT
DTSTART;TZID=Australia/Sydney:20200916T080000
DTEND;TZID=Australia/Sydney:20200916T170000
DTSTAMP:20200227T040604
CREATED:20200129T004050Z
LAST-MODIFIED:20200129T004217Z
UID:19804-1600243200-1600275600@www.afgc.org.au
SUMMARY:FUTURE LEADERS FORUM - Sydney
DESCRIPTION: \nThe Future Leaders Forum is designed to fast-track the careers of young professionals and emerging industry leaders who will transform the future of the consumer goods and supermarket retail industry. \nParticipation not only provides a motivational reward for great performance – it is an investment in the future of the industry and your organisation. \nThe Future Leaders Forum will inspire and develop leaders of today and tomorrow. \n  \nREGISTRATIONS OPENING SOON! \n  \n
URL:https://www.afgc.org.au/event/future-leaders-forum-melbourne
LOCATION:Intercontinental Double Bay Sydney\, 33 Cross Street\, Double Bay\, NSW\, Australia
CATEGORIES:non-past
ORGANIZER;CN="Alyssa%20Handy":MAILTO:alyssa.handy@afgc.org.au
END:VEVENT
END:VCALENDAR