BEGIN:VCALENDAR
VERSION:2.0
PRODID:-//Australian Food and Grocery Council - ECPv5.0.2//NONSGML v1.0//EN
CALSCALE:GREGORIAN
METHOD:PUBLISH
X-WR-CALNAME:Australian Food and Grocery Council
X-ORIGINAL-URL:https://www.afgc.org.au
X-WR-CALDESC:Events for Australian Food and Grocery Council
BEGIN:VTIMEZONE
TZID:Australia/Sydney
BEGIN:STANDARD
TZOFFSETFROM:+1100
TZOFFSETTO:+1000
TZNAME:AEST
DTSTART:20200404T160000
END:STANDARD
BEGIN:DAYLIGHT
TZOFFSETFROM:+1000
TZOFFSETTO:+1100
TZNAME:AEDT
DTSTART:20201003T160000
END:DAYLIGHT
END:VTIMEZONE
BEGIN:VEVENT
DTSTART;TZID=Australia/Sydney:20200318T073000
DTEND;TZID=Australia/Sydney:20200318T093000
DTSTAMP:20200227T040318
CREATED:20200206T050152Z
LAST-MODIFIED:20200206T052558Z
UID:19863-1584516600-1584523800@www.afgc.org.au
SUMMARY:FOOD & GROCERY CODE OF CONDUCT BREAKFAST SERIES - Melbourne
DESCRIPTION:PROMOTIONAL INVESTMENT AND THE FOOD AND GROCERY CODE OF CONDUCT\nThe Food and Grocery Code of Conduct (FGCC) is an essential tool to use when considering your promotional investment with your retail partners. Using the FGCC to frame discussions\, suppliers and retailers can achieve satisfactory negotiations and win-win outcomes. \nAFGC Full Members are invited to a breakfast seminar that will include: \n\nAn update on the FGCC Review\nResults of the Annual AFGC FGCC Survey\nPromotional Investment and the FGCC\n\n \n  \n  \n
URL:https://www.afgc.org.au/event/food-grocery-code-of-conduct-breakfast-series-melbourne
LOCATION:Sheraton Melbourne Hotel  27 Little Collins Street  Melbourne
ATTACH;FMTTYPE=image/png:https://www.afgc.org.au/wp-content/uploads/2020/02/fgcc-banner.png
ORGANIZER;CN="Alyssa%20Handy":MAILTO:alyssa.handy@afgc.org.au
END:VEVENT
END:VCALENDAR