BEGIN:VCALENDAR
VERSION:2.0
PRODID:-//Australian Food and Grocery Council - ECPv5.0.2//NONSGML v1.0//EN
CALSCALE:GREGORIAN
METHOD:PUBLISH
X-WR-CALNAME:Australian Food and Grocery Council
X-ORIGINAL-URL:https://www.afgc.org.au
X-WR-CALDESC:Events for Australian Food and Grocery Council
BEGIN:VTIMEZONE
TZID:Australia/Sydney
BEGIN:STANDARD
TZOFFSETFROM:+1100
TZOFFSETTO:+1000
TZNAME:AEST
DTSTART:20200404T160000
END:STANDARD
BEGIN:DAYLIGHT
TZOFFSETFROM:+1000
TZOFFSETTO:+1100
TZNAME:AEDT
DTSTART:20201003T160000
END:DAYLIGHT
END:VTIMEZONE
BEGIN:VEVENT
DTSTART;TZID=Australia/Sydney:20200527T083000
DTEND;TZID=Australia/Sydney:20200528T160000
DTSTAMP:20200227T040405
CREATED:20190815T050328Z
LAST-MODIFIED:20200220T003304Z
UID:19384-1590568200-1590681600@www.afgc.org.au
SUMMARY:FOOD AND GROCERY AUSTRALIA 2020 - Melbourne
DESCRIPTION:Food and Grocery Australia 2020 continues to be the most significant national conference focused on the future of Australia’s $122 billion food and grocery sector. It boasts an unparalleled line up of A-list speakers and delegates\, offering a unique opportunity to learn\, engage and connect with key players in the FMCG sector. \nSignificant political\, economic and social factors drive Australian and global markets. Food and Grocery Australia 2020 provides access to thought leaders\, practitioners and industry innovators to help attendees effectively respond to challenges and drive success in what is a multifaceted and nuanced trading environment. Expert analysis offers an enhanced understanding of the complexities of increasingly fractious domestic and international consumer preferences and demands for more sophisticated and efficient methods of doing business across the supply chain. \nThe forum continues the tradition of providing a platform for ongoing networking and engagement but with renewed focus on delivering valuable insights\, identifying and analysing trends driving operating outcomes for suppliers\, manufacturers and their retail partners. \nFood and Grocery Australia 2020 concentrates exclusively on the fast moving consumer goods and retail industry\, offering exceptional value for your time and commitment\, more industry insights\, greater breadth of opinion and increased business deliverables. \nA revised format will see the conference commence at 8.30am on Wednesday 27 May and conclude at 4pm on Thursday 28 May\, 2020. A gala evening reception will be held on Wednesday 27 May to celebrate the 25th Anniversary on the Australian Food and Grocery Council. \nWe hope we will have the opportunity to welcome you to Food and Grocery Australia 2020. \n \n  \n  \n
URL:https://www.afgc.org.au/event/food-and-grocery-australia-2020-save-the-date
LOCATION:Grand Hyatt Melbourne\, 123 Collins Street\, Melbourne\, VIC\, 3000\, Australia
ORGANIZER;CN="Alyssa%20Handy":MAILTO:alyssa.handy@afgc.org.au
END:VEVENT
END:VCALENDAR